49.1723
0
0
-49.1734
192689.5832
3224507.0488
