51.5912
0
0
-51.6
382861.332
3455295.2
