51.606
0
0
-51.5952
190531.246
3568791.088
