49.9216
0
0
-49.9324
191527.3984
3115480.1212
