51.5867
0
0
-51.6
382149.3659
2570341.6
