48.2967
0
0
-48.3096
581259.0795
3672996.2416
