47.8092
0
0
-47.8058
201878.6752
3556637.5642
