51.5912
0
0
-51.6
382861.332
3345811.2
