46.7549
0
0
-46.7741
395013.36504
3553401.769325
