48.3615
0
0
-48.3563
583120.3335
3560068.6929
