51.6
0
0
-51.6
387924
2781156.8
