50.1887
0
0
-50.2013
387099.5346
2888726.0745
