49.7257
0
0
-49.7517
589759.7404
2780349.3623
