51.1383
0
0
-51.1513
585883.9379
3003632.6921
