50.274
0
0
-50.277
587370.643
3111489.2475
