52.1553
0
0
-52.1653
176789.1336
2671440.8184
